BEGIN:VCALENDAR
VERSION:2.0
PRODID:-//Contratero//ES
CALSCALE:GREGORIAN
METHOD:PUBLISH
BEGIN:VEVENT
UID:T-SER 20/05.042022@contratero.es
DTSTAMP:20260420T172951Z
DTSTART:20220516T235959
DTEND:20220517T005959
SUMMARY:Cierre: Servicio completo “llave en mano” (hardware\, softw
DESCRIPTION:Servicio completo “llave en mano” (hardware\, software\, instalación\, configuración\, formación\, soporte y mantenimiento integral de todo el Sistema y las comunicaciones) para dotar de acceso público a I...\\n\\nOrganismo: Gerencia de Transportes Interurbanos de Tenerife S.A.U.\\n\\nVer en Contratero: https://contratero.es/contracts/T-SER 20/05.042022
URL:https://contratero.es/contracts/T-SER 20/05.042022
STATUS:CONFIRMED
BEGIN:VALARM
TRIGGER:-P1D
ACTION:DISPLAY
DESCRIPTION:Recordatorio: Servicio completo “llave en ma
END:VALARM
END:VEVENT
END:VCALENDAR